BEGIN:VCALENDAR
VERSION:2.0
PRODID:Ginástica Sénior
X-WR-CALNAME:Ginástica Sénior
X-WR-TIMEZONE:Europe/Lisbon
X-PUBLISHED-TTL:P1W
BEGIN:VTIMEZONE
TZID:Europe/Lisbon
X-LIC-LOCATION:Europe/Lisbon
END:VTIMEZONE
BEGIN:VEVENT
UID:69ea3dac7f906
DTSTART;VALUE=DATE:20260504
SEQUENCE:0
TRANSP:OPAQUE
DTEND;VALUE=DATE:20260505
SUMMARY:Ginástica Sénior
CLASS:PUBLIC
DESCRIPTION:Ginástica sénior no Pavilhão Municipal no Juncal
X-MICROSOFT-CDO-ALLDAYEVENT:TRUE
DTSTAMP:20260423T154132Z
END:VEVENT
END:VCALENDAR